BEGIN:VCALENDAR
VERSION:2.0
PRODID:-//Library Market//iCal Export//EN
BEGIN:VEVENT
SUMMARY:Protect Your Future: Long-Term Care Planning Workshop
UID:20250
DTSTAMP:20260423T182200Z
DTSTART:20260507T203000Z
DTEND:20260507T213000Z
LOCATION:Desert Foothills Library, 38443 N School House Rd., Cave Creek, A
 Z 85331, United States
ROOM: Coates Room
DESCRIPTION:What happens if care is needed...and you&#039;re not prepared?
 WHAT YOU&#039;LL LEARNThe real cost of long-term careHow to protect your a
 ssets from unexpected healthcare expensesStrategies to maintain independen
 ce and dignityPlanning options beyond traditional insuranceNo fear tactics
 . No obligation. Just clear guidance and real-world education.Join our Lon
 g-Term Care Planning Workshop and get the facts, options, and strategies m
 ost people never hear about.Free | Register at dfla.org | Questions, pleas
 e call 480-488-2286.
URL:https://desertfoothills.librarycalendar.com/event/ltc-planning-worksho
 p-20250
END:VEVENT
END:VCALENDAR
